BEGIN:VCALENDAR
VERSION:2.0
PRODID:-//Pendleton County Public Library - ECPv6.15.20//NONSGML v1.0//EN
CALSCALE:GREGORIAN
METHOD:PUBLISH
X-WR-CALNAME:Pendleton County Public Library
X-ORIGINAL-URL:https://pendleton.lib.wv.us
X-WR-CALDESC:Events for Pendleton County Public Library
REFRESH-INTERVAL;VALUE=DURATION:PT1H
X-Robots-Tag:noindex
X-PUBLISHED-TTL:PT1H
BEGIN:VTIMEZONE
TZID:America/New_York
BEGIN:DAYLIGHT
TZOFFSETFROM:-0500
TZOFFSETTO:-0400
TZNAME:EDT
DTSTART:20220313T070000
END:DAYLIGHT
BEGIN:STANDARD
TZOFFSETFROM:-0400
TZOFFSETTO:-0500
TZNAME:EST
DTSTART:20221106T060000
END:STANDARD
BEGIN:DAYLIGHT
TZOFFSETFROM:-0500
TZOFFSETTO:-0400
TZNAME:EDT
DTSTART:20230312T070000
END:DAYLIGHT
BEGIN:STANDARD
TZOFFSETFROM:-0400
TZOFFSETTO:-0500
TZNAME:EST
DTSTART:20231105T060000
END:STANDARD
BEGIN:DAYLIGHT
TZOFFSETFROM:-0500
TZOFFSETTO:-0400
TZNAME:EDT
DTSTART:20240310T070000
END:DAYLIGHT
BEGIN:STANDARD
TZOFFSETFROM:-0400
TZOFFSETTO:-0500
TZNAME:EST
DTSTART:20241103T060000
END:STANDARD
END:VTIMEZONE
BEGIN:VEVENT
DTSTART;TZID=America/New_York:20230207T160000
DTEND;TZID=America/New_York:20230207T170000
DTSTAMP:20260423T164229
CREATED:20230202T154935Z
LAST-MODIFIED:20230202T154935Z
UID:669-1675785600-1675789200@pendleton.lib.wv.us
SUMMARY:Friends Of The Library Meeting
DESCRIPTION:
URL:https://pendleton.lib.wv.us/calendar/friends-of-the-library-meeting-11/
END:VEVENT
BEGIN:VEVENT
DTSTART;TZID=America/New_York:20230211T173000
DTEND;TZID=America/New_York:20230211T193000
DTSTAMP:20260423T164229
CREATED:20230117T214412Z
LAST-MODIFIED:20230117T214412Z
UID:645-1676136600-1676143800@pendleton.lib.wv.us
SUMMARY:Friends of Library Annual Meeting
DESCRIPTION:
URL:https://pendleton.lib.wv.us/calendar/friends-of-library-annual-meeting/
END:VEVENT
BEGIN:VEVENT
DTSTART;TZID=America/New_York:20230213T120000
DTEND;TZID=America/New_York:20230213T170000
DTSTAMP:20260423T164229
CREATED:20230118T155033Z
LAST-MODIFIED:20230118T155033Z
UID:652-1676289600-1676307600@pendleton.lib.wv.us
SUMMARY:Blood Mobile
DESCRIPTION:
URL:https://pendleton.lib.wv.us/calendar/blood-mobile-5/
END:VEVENT
BEGIN:VEVENT
DTSTART;TZID=America/New_York:20230221T170000
DTEND;TZID=America/New_York:20230221T180000
DTSTAMP:20260423T164229
CREATED:20230117T214459Z
LAST-MODIFIED:20230202T154848Z
UID:647-1676998800-1677002400@pendleton.lib.wv.us
SUMMARY:Library Board Meeting
DESCRIPTION:
URL:https://pendleton.lib.wv.us/calendar/library-board-meeting-2/
END:VEVENT
BEGIN:VEVENT
DTSTART;TZID=America/New_York:20230225T110000
DTEND;TZID=America/New_York:20230225T150000
DTSTAMP:20260423T164229
CREATED:20230202T155152Z
LAST-MODIFIED:20230202T155647Z
UID:672-1677322800-1677337200@pendleton.lib.wv.us
SUMMARY:Free Tax Preparation
DESCRIPTION:Call for appt 304-358-7038
URL:https://pendleton.lib.wv.us/calendar/free-tax-preparation/
END:VEVENT
END:VCALENDAR